BEGIN:VCALENDAR
VERSION:2.0
PRODID:-//https://jfw-mittleres-wynental.ch//NONSGML kigkonsult.se iCalcreator 2.41.71//
CALSCALE:GREGORIAN
METHOD:PUBLISH
UID:38323565-3234-4565-b931-653839633662
X-WR-CALNAME:JCal Pro Kalender
X-WR-CALDESC:Ihr Online-Terminkalender
X-WR-TIMEZONE:UTC
BEGIN:VTIMEZONE
TZID:UTC
END:VTIMEZONE
BEGIN:VEVENT
UID:0D6E14D3-B0B6-D151-9306-03B11C0E2A49
DTSTAMP:20260422T114146Z
CATEGORIES:Übung
DESCRIPTION:<p>Thema/Dienst: Einsatzübung <br />Übungsstoff: - <br />Verant
 wortlich: Herr Bossard Kevin <br />Aufgebot: Mannschaft Jugendfeuerwehr</p
 >
DTSTART:20261111T183000Z
DTEND:20261111T213000Z
SUMMARY:Einsatzübung
URL:https://jfw-mittleres-wynental.ch/index.php/veranstaltungen/veranstaltu
 ngen-2/19-uebung/133-einsatzuebung
X-ALT-DESC;FMTTYPE=TEXT/HTML:<p>Thema/Dienst: Einsatzübung <br />Übungsstof
 f: - <br />Verantwortlich: Herr Bossard Kevin <br />Aufgebot: Mannschaft J
 ugendfeuerwehr</p>
END:VEVENT
END:VCALENDAR
