BEGIN:VCALENDAR
VERSION:2.0
PRODID:-//https://jfw-mittleres-wynental.ch//NONSGML kigkonsult.se iCalcreator 2.41.71//
CALSCALE:GREGORIAN
METHOD:PUBLISH
UID:65383838-3635-4539-a261-613364333037
X-WR-CALNAME:JCal Pro Kalender
X-WR-CALDESC:Ihr Online-Terminkalender
X-WR-TIMEZONE:UTC
BEGIN:VTIMEZONE
TZID:UTC
END:VTIMEZONE
BEGIN:VEVENT
UID:A6D7828A-3A46-2C58-22A0-169FE5A29978
DTSTAMP:20260422T112759Z
CATEGORIES:Vorstand
DESCRIPTION:<p>Thema/Dienst: Vorstandssitzung 5/26 <br />Übungsstoff: Büro 
 FW Mag. <br />Verantwortlich: Kpl Zbinden Roman <br />Aufgebot: Vorstand /
  Leiter</p>
DTSTART:20261027T190000Z
DTEND:20261027T210000Z
SUMMARY:Vorstandssitzung 5/26
URL:https://jfw-mittleres-wynental.ch/index.php/veranstaltungen/veranstaltu
 ngen-2/22-vorstand/141-vorstandssitzung-5-26
X-ALT-DESC;FMTTYPE=TEXT/HTML:<p>Thema/Dienst: Vorstandssitzung 5/26 <br />Ü
 bungsstoff: Büro FW Mag. <br />Verantwortlich: Kpl Zbinden Roman <br />Auf
 gebot: Vorstand / Leiter</p>
END:VEVENT
END:VCALENDAR
