BEGIN:VCALENDAR
VERSION:2.0
PRODID:-//https://jfw-mittleres-wynental.ch//NONSGML kigkonsult.se iCalcreator 2.41.71//
CALSCALE:GREGORIAN
METHOD:PUBLISH
UID:38636539-3930-4635-a461-306162663839
X-WR-CALNAME:JCal Pro Kalender
X-WR-CALDESC:Ihr Online-Terminkalender
X-WR-TIMEZONE:UTC
BEGIN:VTIMEZONE
TZID:UTC
END:VTIMEZONE
BEGIN:VEVENT
UID:02F81B42-A8B5-2DE0-CDB7-1CD9F98BD851
DTSTAMP:20260422T084308Z
CATEGORIES:Vorstand
DESCRIPTION:<p>Thema/Dienst: Vorstandssitzung 4/26 <br />Übungsstoff: Büro 
 FW Mag <br />Verantwortlich: Kpl Zbinden Roman <br />Aufgebot: Vorstand / 
 Leiter</p>
DTSTART:20260908T190000Z
DTEND:20260908T210000Z
SUMMARY:Vorstandssitzung 4/26
URL:https://jfw-mittleres-wynental.ch/index.php/veranstaltungen/veranstaltu
 ngen-2/22-vorstand/140-vorstandssitzung-4-26
X-ALT-DESC;FMTTYPE=TEXT/HTML:<p>Thema/Dienst: Vorstandssitzung 4/26 <br />Ü
 bungsstoff: Büro FW Mag <br />Verantwortlich: Kpl Zbinden Roman <br />Aufg
 ebot: Vorstand / Leiter</p>
END:VEVENT
END:VCALENDAR
