BEGIN:VCALENDAR
VERSION:2.0
PRODID:-//https://jfw-mittleres-wynental.ch//NONSGML kigkonsult.se iCalcreator 2.41.71//
CALSCALE:GREGORIAN
METHOD:PUBLISH
UID:33336263-3836-4133-b535-316436303436
X-WR-CALNAME:JCal Pro Kalender
X-WR-CALDESC:Ihr Online-Terminkalender
X-WR-TIMEZONE:UTC
BEGIN:VTIMEZONE
TZID:UTC
END:VTIMEZONE
BEGIN:VEVENT
UID:90FEA4AD-E9F6-38B6-B45C-41F2C8EB27B3
DTSTAMP:20260422T100825Z
CATEGORIES:Übung
DESCRIPTION:<p>Thema/Dienst: Übung Surprice <br />Übungsstoff: - <br />Vera
 ntwortlich: Sdt Bühlmann Nicole <br />Aufgebot: Mannschaft Jugendfeuerwehr
 </p>
DTSTART:20260916T183000Z
DTEND:20260916T203000Z
SUMMARY:Übung Surprice
URL:https://jfw-mittleres-wynental.ch/index.php/veranstaltungen/veranstaltu
 ngen-2/19-uebung/131-uebung-surprice
X-ALT-DESC;FMTTYPE=TEXT/HTML:<p>Thema/Dienst: Übung Surprice <br />Übungsst
 off: - <br />Verantwortlich: Sdt Bühlmann Nicole <br />Aufgebot: Mannschaf
 t Jugendfeuerwehr</p>
END:VEVENT
END:VCALENDAR
