BEGIN:VCALENDAR
VERSION:2.0
PRODID:-//https://jfw-mittleres-wynental.ch//NONSGML kigkonsult.se iCalcreator 2.41.71//
CALSCALE:GREGORIAN
METHOD:PUBLISH
UID:37653434-3432-4936-b131-356338306130
X-WR-CALNAME:JCal Pro Kalender
X-WR-CALDESC:Ihr Online-Terminkalender
X-WR-TIMEZONE:UTC
BEGIN:VTIMEZONE
TZID:UTC
END:VTIMEZONE
BEGIN:VEVENT
UID:048E0B8B-A328-17C7-C8B8-DAD7CCEA0B13
DTSTAMP:20260422T112356Z
CATEGORIES:Vorstand
DESCRIPTION:<p>Thema/Dienst: Vorstandssitzung 6/26 <br />Übungsstoff: Büro 
 FW Mag <br />Verantwortlich: Kpl Zbinden Roman <br />Aufgebot: Vorstand / 
 Leiter</p>
DTSTART:20261201T190000Z
DTEND:20261201T210000Z
SUMMARY:Vorstandssitzung 6/26
URL:https://jfw-mittleres-wynental.ch/index.php/veranstaltungen/veranstaltu
 ngen-2/22-vorstand/142-vorstandssitzung-6-26
X-ALT-DESC;FMTTYPE=TEXT/HTML:<p>Thema/Dienst: Vorstandssitzung 6/26 <br />Ü
 bungsstoff: Büro FW Mag <br />Verantwortlich: Kpl Zbinden Roman <br />Aufg
 ebot: Vorstand / Leiter</p>
END:VEVENT
BEGIN:VEVENT
UID:CC979F78-4E87-41D7-813E-22EAF3F04895
DTSTAMP:20260422T112356Z
CATEGORIES:Übung
DESCRIPTION:<p>Thema/Dienst: Chlaushöck <br />Übungsstoff: - <br />Verantwo
 rtlich: Vorstand / Leiter <br />Aufgebot: Gesamte Jugendfeuerwehr</p>
DTSTART:20261205T000000Z
DTEND:20261205T235959Z
SUMMARY:Chlaushöck
URL:https://jfw-mittleres-wynental.ch/index.php/veranstaltungen/veranstaltu
 ngen-2/19-uebung/134-chlaushoeck
X-ALT-DESC;FMTTYPE=TEXT/HTML:<p>Thema/Dienst: Chlaushöck <br />Übungsstoff:
  - <br />Verantwortlich: Vorstand / Leiter <br />Aufgebot: Gesamte Jugendf
 euerwehr</p>
END:VEVENT
END:VCALENDAR
